BEGIN:VCALENDAR
VERSION:2.0
PRODID:icalendar-ruby
CALSCALE:GREGORIAN
METHOD:PUBLISH
BEGIN:VEVENT
DTSTAMP:20260420T074221Z
UID:9-186162@myfathersprayerhouse.com
DTSTART:20260922T000000Z
DTEND:20260922T020000Z
CLASS:PUBLIC
CREATED:20260420T020958
DESCRIPTION:It's the upper room. It's a place where men are forged into the
 ir ordination\, destinies are rebirthed\, bloodlines are redeemed\, a plac
 e where the gates of nations &amp\; cities swing open to the decree of int
 ercession\n\nIt's a summoning of Intercessors who have been molded in secr
 et to overturn patterns and birthnations to establish thrones of righteous
 ness. \nIt's for those who obey the Holy Spirit 
LAST-MODIFIED:20260420T020958
LOCATION:4405 Pasadena Freeway Pasadena TX 77504
SUMMARY:MONDAY NIGHT PRAYER SERVICE
URL;VALUE=URI:https://myfathersprayerhouse.com/events/monday-night-prayer-s
 ervice--9/2026-09-21
ATTACH;FILENAME=635521326_5420588014832283_7571038967804854573_n.jpg;FMTTYP
 E=image/jpeg:https://dq5pwpg1q8ru0.cloudfront.net/2026/02/19/05/16/57/3905
 c2e9-2b88-4a7d-8f31-a190d975883b/635521326_5420588014832283_75710389678048
 54573_n.jpg
END:VEVENT
END:VCALENDAR
